Package: coseq Version: 1.33.0 Command: chmod a+r coseq -R && F:\biocbuild\bbs-3.22-bioc\R\bin\R.exe CMD build --keep-empty-dirs --no-resave-data coseq StartedAt: 2025-08-14 19:19:21 -0400 (Thu, 14 Aug 2025) EndedAt: 2025-08-14 19:24:38 -0400 (Thu, 14 Aug 2025) EllapsedTime: 316.5 seconds RetCode: 0 Status: OK PackageFile: coseq_1.33.0.tar.gz PackageFileSize: 1.036 MiB