Package: coseq Version: 1.33.0 Command: rm -rf coseq.buildbin-libdir && mkdir coseq.buildbin-libdir && F:\biocbuild\bbs-3.22-bioc\R\bin\R.exe CMD INSTALL --build --library=coseq.buildbin-libdir coseq_1.33.0.tar.gz StartedAt: 2025-08-15 10:01:49 -0400 (Fri, 15 Aug 2025) EndedAt: 2025-08-15 10:02:59 -0400 (Fri, 15 Aug 2025) EllapsedTime: 69.9 seconds RetCode: 0 Status: OK PackageFile: coseq_1.33.0.zip PackageFileSize: 1.43 MiB