Package: corral Version: 1.17.0 Command: E:\biocbuild\bbs-3.21-bioc\R\bin\R.exe CMD INSTALL corral StartedAt: 2025-02-14 15:55:54 -0500 (Fri, 14 Feb 2025) EndedAt: 2025-02-14 15:56:31 -0500 (Fri, 14 Feb 2025) EllapsedTime: 37.5 seconds RetCode: 0 Status: OK