Package: corral Version: 1.17.0 Command: E:\biocbuild\bbs-3.21-bioc\R\bin\R.exe CMD check --no-multiarch --install=check:corral.install-out.txt --library=E:\biocbuild\bbs-3.21-bioc\R\library --no-vignettes --timings corral_1.17.0.tar.gz StartedAt: 2025-02-16 23:50:28 -0500 (Sun, 16 Feb 2025) EndedAt: 2025-02-16 23:56:00 -0500 (Sun, 16 Feb 2025) EllapsedTime: 331.9 seconds RetCode: 0 Status: OK CheckDir: corral.Rcheck Warnings: 0