Package: corral Version: 1.17.0 Command: rm -rf corral.buildbin-libdir && mkdir corral.buildbin-libdir && E:\biocbuild\bbs-3.21-bioc\R\bin\R.exe CMD INSTALL --build --library=corral.buildbin-libdir corral_1.17.0.tar.gz StartedAt: 2025-02-17 07:18:20 -0500 (Mon, 17 Feb 2025) EndedAt: 2025-02-17 07:18:57 -0500 (Mon, 17 Feb 2025) EllapsedTime: 37.3 seconds RetCode: 0 Status: OK PackageFile: corral_1.17.0.zip PackageFileSize: 1.161 MiB