Package: corral Version: 1.19.0 Command: /home/biocbuild/bbs-3.22-bioc/R/bin/R CMD INSTALL corral StartedAt: 2025-10-10 15:47:09 -0400 (Fri, 10 Oct 2025) EndedAt: 2025-10-10 15:47:36 -0400 (Fri, 10 Oct 2025) EllapsedTime: 26.7 seconds RetCode: 0 Status: OK