Package: corral Version: 1.19.0 Command: /home/biocbuild/bbs-3.22-bioc/R/bin/R CMD build --keep-empty-dirs --no-resave-data --md5 corral StartedAt: 2025-10-10 17:11:33 -0400 (Fri, 10 Oct 2025) EndedAt: 2025-10-10 17:25:11 -0400 (Fri, 10 Oct 2025) EllapsedTime: 817.9 seconds RetCode: 0 Status: OK PackageFile: corral_1.19.0.tar.gz PackageFileSize: 2.015 MiB