Package: corral Version: 1.19.0 Maintainer: Lauren Hsu MaintainerEmail: lrnshoe at gmail.com git_url: https://git.bioconductor.org/packages/corral git_branch: devel git_last_commit: 58b723a git_last_commit_date: 2025-04-15 12:03:36 -0400 (Tue, 15 Apr 2025)