Package: copa Version: 1.77.0 Command: /home/biocbuild/bbs-3.22-bioc/R/bin/R CMD build --keep-empty-dirs --no-resave-data --md5 copa StartedAt: 2025-10-07 16:59:40 -0400 (Tue, 07 Oct 2025) EndedAt: 2025-10-07 16:59:48 -0400 (Tue, 07 Oct 2025) EllapsedTime: 8.0 seconds RetCode: 0 Status: OK PackageFile: copa_1.77.0.tar.gz PackageFileSize: 121.8 KiB