Package: conumee Version: 1.43.1 Command: /home/biocbuild/bbs-3.22-bioc/R/bin/R CMD INSTALL conumee StartedAt: 2025-10-08 16:01:13 -0400 (Wed, 08 Oct 2025) EndedAt: 2025-10-08 16:06:17 -0400 (Wed, 08 Oct 2025) EllapsedTime: 304.1 seconds RetCode: 0 Status: OK