Package: consensusOV Version: 1.31.0 Command: /Library/Frameworks/R.framework/Resources/bin/R CMD INSTALL consensusOV StartedAt: 2025-05-09 15:46:02 -0400 (Fri, 09 May 2025) EndedAt: 2025-05-09 15:47:12 -0400 (Fri, 09 May 2025) EllapsedTime: 69.9 seconds RetCode: 0 Status: OK