Package: consensusDE Version: 1.25.0 Command: /home/biocbuild/R/R/bin/R CMD check --install=check:consensusDE.install-out.txt --library=/home/biocbuild/R/R/site-library --no-vignettes --timings consensusDE_1.25.0.tar.gz StartedAt: 2025-01-11 05:25:22 -0000 (Sat, 11 Jan 2025) EndedAt: 2025-01-11 05:32:15 -0000 (Sat, 11 Jan 2025) EllapsedTime: 413.3 seconds RetCode: 0 Status: WARNINGS CheckDir: consensusDE.Rcheck Warnings: 5