Package: consensusDE Version: 1.27.0 Maintainer: Ashley J. Waardenberg MaintainerEmail: a.waardenberg at gmail.com git_url: https://git.bioconductor.org/packages/consensusDE git_branch: devel git_last_commit: 72d92ff git_last_commit_date: 2025-04-15 11:38:45 -0400 (Tue, 15 Apr 2025)