Package: condiments Version: 1.15.1 Command: /Library/Frameworks/R.framework/Resources/bin/R CMD INSTALL condiments StartedAt: 2025-02-14 15:40:32 -0500 (Fri, 14 Feb 2025) EndedAt: 2025-02-14 15:41:18 -0500 (Fri, 14 Feb 2025) EllapsedTime: 46.2 seconds RetCode: 0 Status: OK