Package: concordexR Version: 1.11.0 Command: /Library/Frameworks/R.framework/Resources/bin/R CMD INSTALL concordexR StartedAt: 2025-11-14 15:16:26 -0500 (Fri, 14 Nov 2025) EndedAt: 2025-11-14 15:16:36 -0500 (Fri, 14 Nov 2025) EllapsedTime: 10.0 seconds RetCode: 0 Status: OK