Package: compcodeR Version: 1.45.0 Command: /home/biocbuild/bbs-3.22-bioc/R/bin/R CMD INSTALL compcodeR StartedAt: 2025-07-24 15:14:24 -0400 (Thu, 24 Jul 2025) EndedAt: 2025-07-24 15:14:55 -0400 (Thu, 24 Jul 2025) EllapsedTime: 30.6 seconds RetCode: 0 Status: OK