Package: compcodeR Version: 1.45.0 Maintainer: Charlotte Soneson MaintainerEmail: charlottesoneson at gmail.com git_url: https://git.bioconductor.org/packages/compcodeR git_branch: devel git_last_commit: c96a99c git_last_commit_date: 2025-04-15 10:30:52 -0400 (Tue, 15 Apr 2025)