Package: compSPOT Version: 1.5.0 Command: /Library/Frameworks/R.framework/Resources/bin/R CMD INSTALL compSPOT StartedAt: 2025-02-03 15:47:13 -0500 (Mon, 03 Feb 2025) EndedAt: 2025-02-03 15:47:20 -0500 (Mon, 03 Feb 2025) EllapsedTime: 6.9 seconds RetCode: 0 Status: OK