Package: compSPOT Version: 1.7.0 Command: /Library/Frameworks/R.framework/Resources/bin/R CMD build --keep-empty-dirs --no-resave-data compSPOT StartedAt: 2025-05-04 16:22:20 -0400 (Sun, 04 May 2025) EndedAt: 2025-05-04 16:22:44 -0400 (Sun, 04 May 2025) EllapsedTime: 23.9 seconds RetCode: 0 Status: OK PackageFile: compSPOT_1.7.0.tar.gz PackageFileSize: 436.5 KiB