Package: compSPOT Version: 1.5.0 Command: /home/biocbuild/R/R/bin/R CMD INSTALL compSPOT StartedAt: 2025-01-29 20:32:36 -0000 (Wed, 29 Jan 2025) EndedAt: 2025-01-29 20:32:42 -0000 (Wed, 29 Jan 2025) EllapsedTime: 6.1 seconds RetCode: 0 Status: OK