Package: compSPOT Version: 1.5.0 Command: /home/biocbuild/R/R/bin/R CMD check --install=check:compSPOT.install-out.txt --library=/home/biocbuild/R/R/site-library --no-vignettes --timings compSPOT_1.5.0.tar.gz StartedAt: 2025-01-28 09:25:52 -0000 (Tue, 28 Jan 2025) EndedAt: 2025-01-28 09:29:35 -0000 (Tue, 28 Jan 2025) EllapsedTime: 223.2 seconds RetCode: 0 Status: OK CheckDir: compSPOT.Rcheck Warnings: 0