Package: compEpiTools Version: 1.43.1 Command: /home/biocbuild/bbs-3.22-bioc/R/bin/R CMD check --install=check:compEpiTools.install-out.txt --library=/home/biocbuild/bbs-3.22-bioc/R/site-library --timings compEpiTools_1.43.1.tar.gz StartedAt: 2025-10-24 22:26:30 -0400 (Fri, 24 Oct 2025) EndedAt: 2025-10-24 22:34:04 -0400 (Fri, 24 Oct 2025) EllapsedTime: 453.5 seconds RetCode: 0 Status: OK CheckDir: compEpiTools.Rcheck Warnings: 0