Package: compEpiTools Version: 1.41.0 Command: /home/biocbuild/R/R/bin/R CMD check --install=check:compEpiTools.install-out.txt --library=/home/biocbuild/R/R/site-library --no-vignettes --timings compEpiTools_1.41.0.tar.gz StartedAt: 2025-01-28 09:24:14 -0000 (Tue, 28 Jan 2025) EndedAt: 2025-01-28 09:33:41 -0000 (Tue, 28 Jan 2025) EllapsedTime: 566.4 seconds RetCode: 0 Status: WARNINGS CheckDir: compEpiTools.Rcheck Warnings: 5