Package: compEpiTools Version: 1.41.0 Command: /Library/Frameworks/R.framework/Resources/bin/R CMD check --install=check:compEpiTools.install-out.txt --library=/Library/Frameworks/R.framework/Resources/library --no-vignettes --timings compEpiTools_1.41.0.tar.gz StartedAt: 2025-02-05 18:42:34 -0500 (Wed, 05 Feb 2025) EndedAt: 2025-02-05 18:45:21 -0500 (Wed, 05 Feb 2025) EllapsedTime: 167.0 seconds RetCode: 0 Status: OK CheckDir: compEpiTools.Rcheck Warnings: 0