Package: compEpiTools Version: 1.41.0 Command: rm -rf compEpiTools.buildbin-libdir && mkdir compEpiTools.buildbin-libdir && /Users/biocbuild/BBS/utils/build-universal.sh compEpiTools_1.41.0.tar.gz /Library/Frameworks/R.framework/Resources/bin/R compEpiTools.buildbin-libdir StartedAt: 2025-02-05 22:15:14 -0500 (Wed, 05 Feb 2025) EndedAt: 2025-02-05 22:15:38 -0500 (Wed, 05 Feb 2025) EllapsedTime: 24.5 seconds RetCode: 0 Status: OK PackageFile: compEpiTools_1.41.0.tgz PackageFileSize: 2.347 MiB