Package: combi Version: 1.19.0 Command: /Library/Frameworks/R.framework/Resources/bin/R CMD check --install=check:combi.install-out.txt --library=/Library/Frameworks/R.framework/Resources/library --no-vignettes --timings combi_1.19.0.tar.gz StartedAt: 2025-02-03 19:44:11 -0500 (Mon, 03 Feb 2025) EndedAt: 2025-02-03 19:51:55 -0500 (Mon, 03 Feb 2025) EllapsedTime: 463.8 seconds RetCode: 0 Status: OK CheckDir: combi.Rcheck Warnings: 0