Package: combi Version: 1.19.0 Command: /home/biocbuild/R/R/bin/R CMD build --keep-empty-dirs --no-resave-data combi StartedAt: 2025-01-28 22:02:54 -0000 (Tue, 28 Jan 2025) EndedAt: 2025-01-28 22:07:48 -0000 (Tue, 28 Jan 2025) EllapsedTime: 294.1 seconds RetCode: 0 Status: OK PackageFile: combi_1.19.0.tar.gz PackageFileSize: 1.182 MiB