Package: comapr Version: 1.11.1 Command: E:\biocbuild\bbs-3.21-bioc\R\bin\R.exe CMD check --no-multiarch --install=check:comapr.install-out.txt --library=E:\biocbuild\bbs-3.21-bioc\R\library --no-vignettes --timings comapr_1.11.1.tar.gz StartedAt: 2025-02-06 00:21:27 -0500 (Thu, 06 Feb 2025) EndedAt: 2025-02-06 00:31:05 -0500 (Thu, 06 Feb 2025) EllapsedTime: 578.5 seconds RetCode: 0 Status: OK CheckDir: comapr.Rcheck Warnings: 0