Package: comapr Version: 1.11.1 Command: rm -rf comapr.buildbin-libdir && mkdir comapr.buildbin-libdir && E:\biocbuild\bbs-3.21-bioc\R\bin\R.exe CMD INSTALL --build --library=comapr.buildbin-libdir comapr_1.11.1.tar.gz StartedAt: 2025-02-06 07:47:08 -0500 (Thu, 06 Feb 2025) EndedAt: 2025-02-06 07:48:23 -0500 (Thu, 06 Feb 2025) EllapsedTime: 75.2 seconds RetCode: 0 Status: OK PackageFile: comapr_1.11.1.zip PackageFileSize: 775.2 KiB