Package: comapr Version: 1.13.0 Command: /home/biocbuild/bbs-3.22-bioc/R/bin/R CMD INSTALL comapr StartedAt: 2025-10-15 15:48:32 -0400 (Wed, 15 Oct 2025) EndedAt: 2025-10-15 15:49:41 -0400 (Wed, 15 Oct 2025) EllapsedTime: 69.5 seconds RetCode: 0 Status: OK