Package: comapr Version: 1.11.1 Command: /Library/Frameworks/R.framework/Resources/bin/R CMD check --install=check:comapr.install-out.txt --library=/Library/Frameworks/R.framework/Resources/library --no-vignettes --timings comapr_1.11.1.tar.gz StartedAt: 2025-02-05 19:40:58 -0500 (Wed, 05 Feb 2025) EndedAt: 2025-02-05 19:47:49 -0500 (Wed, 05 Feb 2025) EllapsedTime: 410.9 seconds RetCode: 0 Status: OK CheckDir: comapr.Rcheck Warnings: 0