Package: comapr Version: 1.11.1 Command: rm -rf comapr.buildbin-libdir && mkdir comapr.buildbin-libdir && /Users/biocbuild/BBS/utils/build-universal.sh comapr_1.11.1.tar.gz /Library/Frameworks/R.framework/Resources/bin/R comapr.buildbin-libdir StartedAt: 2025-02-21 00:25:09 -0500 (Fri, 21 Feb 2025) EndedAt: 2025-02-21 00:26:19 -0500 (Fri, 21 Feb 2025) EllapsedTime: 70.3 seconds RetCode: 0 Status: OK PackageFile: comapr_1.11.1.tgz PackageFileSize: 1.075 <A href="http://en.wikipedia.org/wiki/MiB" target="_blank">MiB</A>