Package: comapr Version: 1.11.1 Command: rm -rf comapr.buildbin-libdir && mkdir comapr.buildbin-libdir && /Users/biocbuild/BBS/utils/build-universal.sh comapr_1.11.1.tar.gz /Library/Frameworks/R.framework/Resources/bin/R comapr.buildbin-libdir StartedAt: 2025-02-05 22:15:05 -0500 (Wed, 05 Feb 2025) EndedAt: 2025-02-05 22:15:26 -0500 (Wed, 05 Feb 2025) EllapsedTime: 21.4 seconds RetCode: 0 Status: OK PackageFile: comapr_1.11.1.tgz PackageFileSize: 1.077 MiB