Package: cola Version: 2.15.0 Command: chmod a+r cola -R && F:\biocbuild\bbs-3.22-bioc\R\bin\R.exe CMD build --keep-empty-dirs --no-resave-data cola StartedAt: 2025-08-14 19:15:00 -0400 (Thu, 14 Aug 2025) EndedAt: 2025-08-14 19:16:40 -0400 (Thu, 14 Aug 2025) EllapsedTime: 99.2 seconds RetCode: 0 Status: OK PackageFile: cola_2.15.0.tar.gz PackageFileSize: 3.658 MiB