Package: cola Version: 2.15.0 Command: /home/biocbuild/bbs-3.22-bioc/R/bin/R CMD INSTALL cola StartedAt: 2025-10-09 15:16:49 -0400 (Thu, 09 Oct 2025) EndedAt: 2025-10-09 15:17:19 -0400 (Thu, 09 Oct 2025) EllapsedTime: 30.2 seconds RetCode: 0 Status: OK