Package: cogeqc Version: 1.13.0 Command: /home/biocbuild/bbs-3.22-bioc/R/bin/R CMD INSTALL cogeqc StartedAt: 2025-10-22 15:32:45 -0400 (Wed, 22 Oct 2025) EndedAt: 2025-10-22 15:32:59 -0400 (Wed, 22 Oct 2025) EllapsedTime: 14.4 seconds RetCode: 0 Status: OK