Package: cogena Version: 1.43.0 Command: rm -rf cogena.buildbin-libdir && mkdir cogena.buildbin-libdir && F:\biocbuild\bbs-3.22-bioc\R\bin\R.exe CMD INSTALL --build --library=cogena.buildbin-libdir cogena_1.43.0.tar.gz StartedAt: 2025-08-15 10:00:11 -0400 (Fri, 15 Aug 2025) EndedAt: 2025-08-15 10:01:08 -0400 (Fri, 15 Aug 2025) EllapsedTime: 56.8 seconds RetCode: 0 Status: OK PackageFile: cogena_1.43.0.zip PackageFileSize: 6.667 MiB