Package: coMethDMR Version: 1.11.0 Command: /Library/Frameworks/R.framework/Resources/bin/R CMD INSTALL coMethDMR StartedAt: 2025-02-05 15:19:34 -0500 (Wed, 05 Feb 2025) EndedAt: 2025-02-05 15:20:39 -0500 (Wed, 05 Feb 2025) EllapsedTime: 65.6 seconds RetCode: 0 Status: OK