Package: coMethDMR Version: 1.13.0 Command: /Library/Frameworks/R.framework/Resources/bin/R CMD build --keep-empty-dirs --no-resave-data coMethDMR StartedAt: 2025-04-27 16:21:21 -0400 (Sun, 27 Apr 2025) EndedAt: 2025-04-27 16:25:24 -0400 (Sun, 27 Apr 2025) EllapsedTime: 243.0 seconds RetCode: 0 Status: OK PackageFile: coMethDMR_1.13.0.tar.gz PackageFileSize: 3.103 MiB