Package: coMethDMR Version: 1.11.0 Command: /Library/Frameworks/R.framework/Resources/bin/R CMD INSTALL coMethDMR StartedAt: 2025-02-04 15:13:06 -0500 (Tue, 04 Feb 2025) EndedAt: 2025-02-04 15:13:25 -0500 (Tue, 04 Feb 2025) EllapsedTime: 19.0 seconds RetCode: 0 Status: OK