Package: coMethDMR Version: 1.11.0 Command: /Library/Frameworks/R.framework/Resources/bin/R CMD check --install=check:coMethDMR.install-out.txt --library=/Library/Frameworks/R.framework/Resources/library --no-vignettes --timings coMethDMR_1.11.0.tar.gz StartedAt: 2025-02-04 18:39:04 -0500 (Tue, 04 Feb 2025) EndedAt: 2025-02-04 18:43:08 -0500 (Tue, 04 Feb 2025) EllapsedTime: 244.0 seconds RetCode: 0 Status: OK CheckDir: coMethDMR.Rcheck Warnings: 0