Package: coMET Version: 1.39.0 Command: /Library/Frameworks/R.framework/Resources/bin/R CMD INSTALL coMET StartedAt: 2025-02-16 15:26:11 -0500 (Sun, 16 Feb 2025) EndedAt: 2025-02-16 15:27:23 -0500 (Sun, 16 Feb 2025) EllapsedTime: 71.8 seconds RetCode: 0 Status: OK