Package: cnvGSA Version: 1.53.0 Command: /home/biocbuild/R/R/bin/R CMD INSTALL cnvGSA StartedAt: 2025-10-06 20:27:24 -0000 (Mon, 06 Oct 2025) EndedAt: 2025-10-06 20:27:38 -0000 (Mon, 06 Oct 2025) EllapsedTime: 13.8 seconds RetCode: 0 Status: OK