Package: cn.mops Version: 1.55.1 Command: chmod a+r cn.mops -R && F:\biocbuild\bbs-3.22-bioc\R\bin\R.exe CMD build --keep-empty-dirs --no-resave-data cn.mops StartedAt: 2025-08-14 19:12:13 -0400 (Thu, 14 Aug 2025) EndedAt: 2025-08-14 19:13:49 -0400 (Thu, 14 Aug 2025) EllapsedTime: 95.0 seconds RetCode: 0 Status: OK PackageFile: cn.mops_1.55.1.tar.gz PackageFileSize: 953.4 KiB