Package: cn.farms Version: 1.55.0 Command: chmod a+r cn.farms -R && E:\biocbuild\bbs-3.21-bioc\R\bin\R.exe CMD build --keep-empty-dirs --no-resave-data cn.farms StartedAt: 2025-02-16 17:50:05 -0500 (Sun, 16 Feb 2025) EndedAt: 2025-02-16 17:50:16 -0500 (Sun, 16 Feb 2025) EllapsedTime: 10.9 seconds RetCode: 1 Status: ERROR PackageFile: None PackageFileSize: NA