Package: cn.farms Version: 1.55.0 Command: /home/biocbuild/R/R/bin/R CMD INSTALL cn.farms StartedAt: 2025-01-29 19:53:16 -0000 (Wed, 29 Jan 2025) EndedAt: 2025-01-29 19:53:18 -0000 (Wed, 29 Jan 2025) EllapsedTime: 2.0 seconds RetCode: 1 Status: ERROR