Package: cn.farms Version: 1.59.0 Command: rm -rf cn.farms.buildbin-libdir && mkdir cn.farms.buildbin-libdir && /Users/biocbuild/BBS/utils/build-universal.sh cn.farms_1.59.0.tar.gz /Library/Frameworks/R.framework/Resources/bin/R cn.farms.buildbin-libdir StartedAt: 2025-11-26 23:28:29 -0500 (Wed, 26 Nov 2025) EndedAt: 2025-11-26 23:28:45 -0500 (Wed, 26 Nov 2025) EllapsedTime: 16.4 seconds RetCode: 0 Status: OK PackageFile: cn.farms_1.59.0.tgz PackageFileSize: 2.468 MiB