Package: cmapR Version: 1.21.0 Command: /Library/Frameworks/R.framework/Resources/bin/R CMD INSTALL cmapR StartedAt: 2025-05-04 15:11:01 -0400 (Sun, 04 May 2025) EndedAt: 2025-05-04 15:11:12 -0400 (Sun, 04 May 2025) EllapsedTime: 10.9 seconds RetCode: 0 Status: OK