Package: cmapR Version: 1.21.0 Command: rm -rf cmapR.buildbin-libdir && mkdir cmapR.buildbin-libdir && /Users/biocbuild/BBS/utils/build-universal.sh cmapR_1.21.0.tar.gz /Library/Frameworks/R.framework/Resources/bin/R cmapR.buildbin-libdir StartedAt: 2025-05-06 22:53:29 -0400 (Tue, 06 May 2025) EndedAt: 2025-05-06 22:53:42 -0400 (Tue, 06 May 2025) EllapsedTime: 13.3 seconds RetCode: 0 Status: OK PackageFile: cmapR_1.21.0.tgz PackageFileSize: 3.966 MiB