Package: clustifyr Version: 1.21.0 Command: /home/biocbuild/bbs-3.22-bioc/R/bin/R CMD check --install=check:clustifyr.install-out.txt --library=/home/biocbuild/bbs-3.22-bioc/R/site-library --timings clustifyr_1.21.0.tar.gz StartedAt: 2025-10-07 22:26:43 -0400 (Tue, 07 Oct 2025) EndedAt: 2025-10-07 22:39:17 -0400 (Tue, 07 Oct 2025) EllapsedTime: 754.8 seconds RetCode: 0 Status: OK CheckDir: clustifyr.Rcheck Warnings: 0